BEGIN:VCALENDAR
VERSION:2.0
PRODID:-//hacksw/handcal//NONSGML v1.0//EN
CALSCALE:GREGORIAN
BEGIN:VEVENT
TZID:America/New_York
SUMMARY:Human Rights Film Screening: Afghan Dreamers
URL;VALUE=URI:https://plsmw.law.harvard.edu/event/1936-2/
DTSTART:20240201T170000
DTEND:20240201T200000
LOCATION:T-520 NYE B\, Harvard Kennedy School
DESCRIPTION:Members of the all-girl robotics team from Afghanistan struggle to succeed in international competitions while combating their male-dominated culture and the threat of Taliban rule.
UID:69e8682ecb383
END:VEVENT
END:VCALENDAR