BEGIN:VCALENDAR
VERSION:2.0
PRODID:-//hacksw/handcal//NONSGML v1.0//EN
CALSCALE:GREGORIAN
BEGIN:VEVENT
TZID:America/New_York
SUMMARY:After India&#8217\;s Elections: A Conversation on Democracy and Dissent
URL;VALUE=URI:https://plsmw.law.harvard.edu/event/after-indias-elections-a-conversation-on-democracy-and-dissent/
DTSTART:20240912T160000
DTEND:20240912T173000
LOCATION:WCC 3034\, HLS campus
DESCRIPTION:Join us for a conversation with award-winning journalist Suchitra Vijayan on the changing landscape of political freedom in Indian
UID:69e817ab115f6
END:VEVENT
END:VCALENDAR