BEGIN:VCALENDAR
VERSION:2.0
PRODID:-//hacksw/handcal//NONSGML v1.0//EN
CALSCALE:GREGORIAN
BEGIN:VEVENT
TZID:America/New_York
SUMMARY:40th Anniversary of the Human Rights Program
URL;VALUE=URI:https://plsmw.law.harvard.edu/event/40th-anniversary-of-the-human-rights-program/
DTSTART:20241017T123000
DTEND:20241017T183000
LOCATION:Milstein East BC\, Wasserstein Hall\, Harvard Law School
DESCRIPTION:Join our Program Faculty Director and Executive Director as part of the 40th Anniversary Symposium of the Human Rights Program at Harvard Law School.
UID:69e50317a251b
END:VEVENT
END:VCALENDAR