BEGIN:VCALENDAR
VERSION:2.0
PRODID:-//hacksw/handcal//NONSGML v1.0//EN
CALSCALE:GREGORIAN
BEGIN:VEVENT
TZID:America/New_York
SUMMARY:Accountability\, Reconciliation and Transitional Justice in Sri Lanka: Role of the International Community
URL;VALUE=URI:https://plsmw.law.harvard.edu/event/accountability-reconciliation-and-transitional-justice-in-sri-lanka-role-of-the-international-community/
DTSTART:20241113T121500
DTEND:20241113T131500
LOCATION:Hauser 104\, HLS Campus | Zoom (Register below)
DESCRIPTION:Join us for a discussion with Tiruchelvam Memorial Fellow Thyagi Ruwanpathirana and Kate Cronin-Furman on accountability\, reconciliation\, and transitional justice in Sri Lanka.
UID:69e934945f0f7
END:VEVENT
END:VCALENDAR