BEGIN:VCALENDAR
VERSION:2.0
PRODID:-//hacksw/handcal//NONSGML v1.0//EN
CALSCALE:GREGORIAN
BEGIN:VEVENT
TZID:America/New_York
SUMMARY:Hidden in Plain Sight: Stateless Communities in the United States and Pakistan
URL;VALUE=URI:https://plsmw.law.harvard.edu/event/hidden-in-plain-sight-stateless-communities-in-the-united-states-and-pakistan/
DTSTART:20241118T121500
DTEND:20241118T121500
LOCATION:WCC 3008\, HLS Campus
DESCRIPTION:Join the discussion with Karina Ambartsoumian-Clough and Hiba Thobani to understand more about the legal frameworks that perpetuate statelessness and the work being done to end statelessness in the United States and Pakistan
UID:69ebc86d2a7d5
END:VEVENT
END:VCALENDAR