BEGIN:VCALENDAR
VERSION:2.0
PRODID:-//hacksw/handcal//NONSGML v1.0//EN
CALSCALE:GREGORIAN
BEGIN:VEVENT
TZID:America/New_York
SUMMARY:Pakistan Conference at Harvard 2025
URL;VALUE=URI:https://plsmw.law.harvard.edu/event/pakistan-conference-at-harvard-2025/
DTSTART:20250427T093000
DTEND:20250427T190000
LOCATION:Harvard University Campus
DESCRIPTION:Our Program is pleased to support the 2025 Pakistan Conference at Harvard\, a student-run conference taking place on April 27\, 2025. Click below to register.
UID:69e6ff09f2acb
END:VEVENT
END:VCALENDAR